BEGIN:VCALENDAR
VERSION:2.0
PRODID:-//www.thearcfamilyinstitute.org//NONSGML kigkonsult.se iCalcreator 
 2.30.10//
CALSCALE:GREGORIAN
METHOD:PUBLISH
UID:af406af8-c942-407f-a769-4943d6b3fd97
X-WR-CALDESC:For siblings 9-13. Participants will enjoy a pizza dinner and 
 with a relaxed environment\, discuss any issues that are on their minds.  
 The leader\, an experienced social worker\, leads the discussion with sens
 itivity and insight.
X-WR-RELCALID:ce55f55520aedc7e9790c0abe769b1b9
X-WR-TIMEZONE:America/New_York
BEGIN:VTIMEZONE
TZID:America/New_York
BEGIN:STANDARD
TZNAME:EST
DTSTART:20291104T020000
TZOFFSETFROM:-0400
TZOFFSETTO:-0500
RDATE:20301103T020000
END:STANDARD
BEGIN:DAYLIGHT
TZNAME:EDT
DTSTART:20290311T020000
TZOFFSETFROM:-0500
TZOFFSETTO:-0400
RDATE:20300310T020000
RDATE:20310309T020000
END:DAYLIGHT
END:VTIMEZONE
BEGIN:VEVENT
UID:09759e70-6b92-4d02-b23a-e3a4c6df770e
DTSTAMP:20260426T000844Z
DESCRIPTION:For siblings 9-13. Participants will enjoy a pizza dinner and w
 ith a relaxed environment\, discuss any issues that are on their minds.  T
 he leader\, an experienced social worker\, leads the discussion with sensi
 tivity and insight.
DTSTART;TZID=America/New_York:20300220T180000
DTEND;TZID=America/New_York:20300220T193000
LOCATION:Jewish Family Service of Central New Jersey\, 655 Westfield Avenue
 \, Elizabeth\, New Jersey 07208
SUMMARY:Siblings Support Group (Elizabeth)
END:VEVENT
END:VCALENDAR
