BEGIN:VCALENDAR
VERSION:2.0
PRODID:-//www.thearcfamilyinstitute.org//NONSGML kigkonsult.se iCalcreator 
 2.30.10//
CALSCALE:GREGORIAN
METHOD:PUBLISH
UID:569276a5-817d-4ca9-a3a6-f49c64bf7aeb
X-WR-CALDESC:We discuss new information\, host guest speakers and educate o
 urselves as we assist our children in meeting their potential. \n\nFamilie
 s from surrounding communities such as Cranford\, Clark\, North Plainfield
 \, Summit\, Westfield\, Millburn\, Morristown\, and Hillsborough attend ou
 r meetings.
X-WR-RELCALID:b8f03bb6ed36c34cc7c8fa912e69e0be
X-WR-TIMEZONE:America/New_York
BEGIN:VTIMEZONE
TZID:America/New_York
BEGIN:STANDARD
TZNAME:EST
DTSTART:20291104T020000
TZOFFSETFROM:-0400
TZOFFSETTO:-0500
RDATE:20301103T020000
END:STANDARD
BEGIN:DAYLIGHT
TZNAME:EDT
DTSTART:20290311T020000
TZOFFSETFROM:-0500
TZOFFSETTO:-0400
RDATE:20300310T020000
RDATE:20310309T020000
END:DAYLIGHT
END:VTIMEZONE
BEGIN:VEVENT
UID:eb772335-971a-48c3-a813-238815ecbb3f
DTSTAMP:20260425T230149Z
DESCRIPTION:We discuss new information\, host guest speakers and educate ou
 rselves as we assist our children in meeting their potential. \n\nFamilies
  from surrounding communities such as Cranford\, Clark\, North Plainfield\
 , Summit\, Westfield\, Millburn\, Morristown\, and Hillsborough attend our
  meetings.
DTSTART;TZID=America/New_York:20300129T190000
DTEND;TZID=America/New_York:20300129T200000
LOCATION:Children's Specialized Hospital\, 150 New Providence Road\, Mounta
 inside\, NJ
SUMMARY:Down Syndrome Parent Support Group (Mountainside)
END:VEVENT
END:VCALENDAR
