BEGIN:VCALENDAR
VERSION:2.0
PRODID:-//www.thearcfamilyinstitute.org//NONSGML kigkonsult.se iCalcreator 
 2.30.10//
CALSCALE:GREGORIAN
METHOD:PUBLISH
UID:a7421119-4199-4be8-ac26-d888b2f211b9
X-WR-CALDESC:Grandparent Support group offers a chance to talk with others 
 who are raising their grandchildren (or great-grands\, or great-nieces/nep
 hews). Share resources\, get emotional support\, give yourself a chance to
  smile.  Guest speakers on given topics may be arranged as group interests
  leads.
X-WR-RELCALID:8c738353edbac826fc7380761eee8539
X-WR-TIMEZONE:America/New_York
BEGIN:VTIMEZONE
TZID:America/New_York
BEGIN:STANDARD
TZNAME:EST
DTSTART:20291104T020000
TZOFFSETFROM:-0400
TZOFFSETTO:-0500
RDATE:20301103T020000
END:STANDARD
BEGIN:DAYLIGHT
TZNAME:EDT
DTSTART:20290311T020000
TZOFFSETFROM:-0500
TZOFFSETTO:-0400
RDATE:20300310T020000
RDATE:20310309T020000
END:DAYLIGHT
END:VTIMEZONE
BEGIN:VEVENT
UID:a9cda58a-b430-4757-83c7-3dc4dffb0fb9
DTSTAMP:20260425T230446Z
DESCRIPTION:Grandparent Support group offers a chance to talk with others w
 ho are raising their grandchildren (or great-grands\, or great-nieces/neph
 ews). Share resources\, get emotional support\, give yourself a chance to 
 smile.  Guest speakers on given topics may be arranged as group interests 
 leads.
DTSTART;TZID=America/New_York:20300107T140000
DTEND;TZID=America/New_York:20300107T150000
LOCATION:Burlington County Human Services Building 795 Woodlane Road\, West
 ampton\, NJ 08060
SUMMARY:Grandparent Support Group (Westampton)
END:VEVENT
END:VCALENDAR
