BEGIN:VCALENDAR
VERSION:2.0
PRODID:-//www.thearcfamilyinstitute.org//NONSGML kigkonsult.se iCalcreator 
 2.30.10//
CALSCALE:GREGORIAN
METHOD:PUBLISH
UID:d425e6aa-a62c-46bf-a896-04be08f7279d
X-WR-CALDESC:For siblings 9-13. Participants will enjoy a pizza dinner and 
 with a relaxed environment\, discuss any issues that are on their minds.  
 The leader\, an experienced social worker\, leads the discussion with sens
 itivity and insight.
X-WR-RELCALID:d967071720a2a61ac59946016f5827e1
X-WR-TIMEZONE:America/New_York
BEGIN:VTIMEZONE
TZID:America/New_York
BEGIN:STANDARD
TZNAME:EST
DTSTART:20291104T020000
TZOFFSETFROM:-0400
TZOFFSETTO:-0500
RDATE:20301103T020000
END:STANDARD
BEGIN:DAYLIGHT
TZNAME:EDT
DTSTART:20290311T020000
TZOFFSETFROM:-0500
TZOFFSETTO:-0400
RDATE:20300310T020000
RDATE:20310309T020000
END:DAYLIGHT
END:VTIMEZONE
BEGIN:VEVENT
UID:7f5c46ac-1f79-48d3-a7cd-0231f0d4b1db
DTSTAMP:20260425T212850Z
DESCRIPTION:For siblings 9-13. Participants will enjoy a pizza dinner and w
 ith a relaxed environment\, discuss any issues that are on their minds.  T
 he leader\, an experienced social worker\, leads the discussion with sensi
 tivity and insight.
DTSTART;TZID=America/New_York:20291219T180000
DTEND;TZID=America/New_York:20291219T193000
LOCATION:Jewish Family Service of Central New Jersey\, 655 Westfield Avenue
 \, Elizabeth\, New Jersey 07208
SUMMARY:Siblings Support Group (Elizabeth)
END:VEVENT
END:VCALENDAR
