BEGIN:VCALENDAR
VERSION:2.0
PRODID:-//www.thearcfamilyinstitute.org//NONSGML kigkonsult.se iCalcreator 
 2.30.10//
CALSCALE:GREGORIAN
METHOD:PUBLISH
UID:df3c3e2e-a720-4a59-87c5-2141a6ee357a
X-WR-CALDESC:Do you ever feel stressed & overwhelmed as a parent? Can your 
 kids really push your buttons? Want other parents to talk to?\n\nCome to t
 he Parents Anonymous Support Group!!\nParents can freely share their quest
 ions\, concerns\, problems & solutions about parenting in a safe & support
 ive atmosphere\nMeetings are free & onsite child supervision is available.
  (please call a week before to schedule child supervision)
X-WR-RELCALID:f301ef027e37e0ea76e8dbf79a512f23
X-WR-TIMEZONE:America/New_York
BEGIN:VTIMEZONE
TZID:America/New_York
BEGIN:STANDARD
TZNAME:EST
DTSTART:20281105T020000
TZOFFSETFROM:-0400
TZOFFSETTO:-0500
RDATE:20291104T020000
RDATE:20301103T020000
END:STANDARD
BEGIN:DAYLIGHT
TZNAME:EDT
DTSTART:20290311T020000
TZOFFSETFROM:-0500
TZOFFSETTO:-0400
RDATE:20300310T020000
RDATE:20310309T020000
END:DAYLIGHT
END:VTIMEZONE
BEGIN:VEVENT
UID:0168d037-a387-4b7b-bdc4-f774f286db90
DTSTAMP:20260425T174747Z
DESCRIPTION:Do you ever feel stressed & overwhelmed as a parent? Can your k
 ids really push your buttons? Want other parents to talk to?\n\nCome to th
 e Parents Anonymous Support Group!!\nParents can freely share their questi
 ons\, concerns\, problems & solutions about parenting in a safe & supporti
 ve atmosphere\nMeetings are free & onsite child supervision is available. 
 (please call a week before to schedule child supervision)
DTSTART;TZID=America/New_York:20290926T100000
DTEND;TZID=America/New_York:20290926T120000
LOCATION:Mercer County Family Support Organization\, 3535 Quakerbridge Rd\,
  Suite 400\, Hamilton\, NJ 08619
SUMMARY:Parents Anonymous (Hamilton)
END:VEVENT
END:VCALENDAR
