BEGIN:VCALENDAR
VERSION:2.0
PRODID:-//www.thearcfamilyinstitute.org//NONSGML kigkonsult.se iCalcreator 
 2.30.10//
CALSCALE:GREGORIAN
METHOD:PUBLISH
UID:709b1c10-a964-4a94-8c9c-24d19e5780c7
X-WR-CALDESC:Mom2Mom / The Arc of Monmouth \n\nSupport Group for Caregivers
  of Special Needs Children & Adults\nYou’re caring for your special needs 
 child…Who is caring for you?\nAt Mom 2 Mom our focus is caring for you….\n
  \nIn partnership with the University of Medicine & Dentistry of New Jerse
 y \n
X-WR-RELCALID:2c7027ecb77f9115518c1f8440e55c66
X-WR-TIMEZONE:America/New_York
BEGIN:VTIMEZONE
TZID:America/New_York
BEGIN:STANDARD
TZNAME:EST
DTSTART:20281105T020000
TZOFFSETFROM:-0400
TZOFFSETTO:-0500
RDATE:20291104T020000
RDATE:20301103T020000
END:STANDARD
BEGIN:DAYLIGHT
TZNAME:EDT
DTSTART:20290311T020000
TZOFFSETFROM:-0500
TZOFFSETTO:-0400
RDATE:20300310T020000
RDATE:20310309T020000
END:DAYLIGHT
END:VTIMEZONE
BEGIN:VEVENT
UID:299ddbda-74e6-4a6a-998b-f1c5c8f2e684
DTSTAMP:20260425T175433Z
DESCRIPTION:Mom2Mom / The Arc of Monmouth \n\nSupport Group for Caregivers 
 of Special Needs Children & Adults\nYou’re caring for your special needs c
 hild…Who is caring for you?\nAt Mom 2 Mom our focus is caring for you….\n 
 \nIn partnership with the University of Medicine & Dentistry of New Jersey
  \n
DTSTART;TZID=America/New_York:20290911T110000
DTEND;TZID=America/New_York:20290911T123000
LOCATION:The Arc of Monmouth\, 1158 Wayside Road\, Tinton Falls\, NJ 07712
SUMMARY:Mom2Mom (Tinton Falls)
END:VEVENT
END:VCALENDAR
