BEGIN:VCALENDAR
VERSION:2.0
PRODID:-//www.thearcfamilyinstitute.org//NONSGML kigkonsult.se iCalcreator 
 2.30.10//
CALSCALE:GREGORIAN
METHOD:PUBLISH
UID:36580361-da5d-4f63-8fef-e6280e0fb5ca
X-WR-CALDESC:Monthly support group for caregivers/parents of individuals wi
 th developmental and other disabilities who are 14 years and over.
X-WR-RELCALID:54a77b6bb40dfa56843b64ba93462690
X-WR-TIMEZONE:America/New_York
BEGIN:VTIMEZONE
TZID:America/New_York
BEGIN:STANDARD
TZNAME:EST
DTSTART:20281105T020000
TZOFFSETFROM:-0400
TZOFFSETTO:-0500
RDATE:20291104T020000
RDATE:20301103T020000
END:STANDARD
BEGIN:DAYLIGHT
TZNAME:EDT
DTSTART:20290311T020000
TZOFFSETFROM:-0500
TZOFFSETTO:-0400
RDATE:20300310T020000
END:DAYLIGHT
END:VTIMEZONE
BEGIN:VEVENT
UID:2b4d08be-c488-46f1-9f85-b3bcf087f1ed
DTSTAMP:20260425T151108Z
DESCRIPTION:Monthly support group for caregivers/parents of individuals wit
 h developmental and other disabilities who are 14 years and over.
DTSTART;TZID=America/New_York:20290710T190000
DTEND;TZID=America/New_York:20290710T203000
LOCATION:Bergen County Special Services Education Facility 540 Farview Ave.
 \, Paramus
SUMMARY:Parent-to-Parent (Paramus)
END:VEVENT
END:VCALENDAR
