BEGIN:VCALENDAR
VERSION:2.0
PRODID:-//www.thearcfamilyinstitute.org//NONSGML kigkonsult.se iCalcreator 
 2.30.10//
CALSCALE:GREGORIAN
METHOD:PUBLISH
UID:3d2125bc-8499-4d0a-85c7-93eed08c40e5
X-WR-CALDESC:Mom2Mom / The Arc of Monmouth \n\nSupport Group for Caregivers
  of Special Needs Children & Adults\nYou’re caring for your special needs 
 child…Who is caring for you?\nAt Mom 2 Mom our focus is caring for you….\n
  \nIn partnership with the University of Medicine & Dentistry of New Jerse
 y \n
X-WR-RELCALID:f29263c9f01561d0479b0e76305cd252
X-WR-TIMEZONE:America/New_York
BEGIN:VTIMEZONE
TZID:America/New_York
BEGIN:STANDARD
TZNAME:EST
DTSTART:20281105T020000
TZOFFSETFROM:-0400
TZOFFSETTO:-0500
RDATE:20291104T020000
RDATE:20301103T020000
END:STANDARD
BEGIN:DAYLIGHT
TZNAME:EDT
DTSTART:20290311T020000
TZOFFSETFROM:-0500
TZOFFSETTO:-0400
RDATE:20300310T020000
END:DAYLIGHT
END:VTIMEZONE
BEGIN:VEVENT
UID:7c8118d5-6551-4244-a9fd-1b0f53ebfdb0
DTSTAMP:20260425T152430Z
DESCRIPTION:Mom2Mom / The Arc of Monmouth \n\nSupport Group for Caregivers 
 of Special Needs Children & Adults\nYou’re caring for your special needs c
 hild…Who is caring for you?\nAt Mom 2 Mom our focus is caring for you….\n 
 \nIn partnership with the University of Medicine & Dentistry of New Jersey
  \n
DTSTART;TZID=America/New_York:20290710T110000
DTEND;TZID=America/New_York:20290710T123000
LOCATION:The Arc of Monmouth\, 1158 Wayside Road\, Tinton Falls\, NJ 07712
SUMMARY:Mom2Mom (Tinton Falls)
END:VEVENT
END:VCALENDAR
