BEGIN:VCALENDAR
VERSION:2.0
PRODID:-//www.thearcfamilyinstitute.org//NONSGML kigkonsult.se iCalcreator 
 2.30.10//
CALSCALE:GREGORIAN
METHOD:PUBLISH
UID:bf308a9b-1da3-429c-877b-039ee6ab8916
X-WR-CALDESC:Support\, informational and education source for parent and ca
 regivers of children in the Autism Spectrum.  Quarterly guest speaker pres
 ent on issues of interest to the community.
X-WR-RELCALID:49b9ffe889058896275d464d0d8f84da
X-WR-TIMEZONE:America/New_York
BEGIN:VTIMEZONE
TZID:America/New_York
BEGIN:STANDARD
TZNAME:EST
DTSTART:20281105T020000
TZOFFSETFROM:-0400
TZOFFSETTO:-0500
RDATE:20291104T020000
RDATE:20301103T020000
END:STANDARD
BEGIN:DAYLIGHT
TZNAME:EDT
DTSTART:20290311T020000
TZOFFSETFROM:-0500
TZOFFSETTO:-0400
RDATE:20300310T020000
END:DAYLIGHT
END:VTIMEZONE
BEGIN:VEVENT
UID:0608d0e2-2e08-4691-adcf-8593f12a32d1
DTSTAMP:20260425T140836Z
DESCRIPTION:Support\, informational and education source for parent and car
 egivers of children in the Autism Spectrum.  Quarterly guest speaker prese
 nt on issues of interest to the community.
DTSTART;TZID=America/New_York:20290607T110000
DTEND;TZID=America/New_York:20290607T123000
LOCATION:Capital Health Hopewell\, Two Capital Way\, Pennington\, NJ 08540\
 , 4th floor Conference Room
SUMMARY:Support Group for Parents and Caregivers of Children with Autism (P
 ennington)
END:VEVENT
END:VCALENDAR
