BEGIN:VCALENDAR
VERSION:2.0
PRODID:-//www.thearcfamilyinstitute.org//NONSGML kigkonsult.se iCalcreator 
 2.30.10//
CALSCALE:GREGORIAN
METHOD:PUBLISH
UID:dceb053a-8a70-4451-bb39-ca298be0234c
X-WR-CALDESC:We discuss new information\, host guest speakers and educate o
 urselves as we assist our children in meeting their potential. \n\nFamilie
 s from surrounding communities such as Cranford\, Clark\, North Plainfield
 \, Summit\, Westfield\, Millburn\, Morristown\, and Hillsborough attend ou
 r meetings.
X-WR-RELCALID:e247da442c88a579cf3113feb6d122a4
X-WR-TIMEZONE:America/New_York
BEGIN:VTIMEZONE
TZID:America/New_York
BEGIN:STANDARD
TZNAME:EST
DTSTART:20281105T020000
TZOFFSETFROM:-0400
TZOFFSETTO:-0500
RDATE:20291104T020000
END:STANDARD
BEGIN:DAYLIGHT
TZNAME:EDT
DTSTART:20290311T020000
TZOFFSETFROM:-0500
TZOFFSETTO:-0400
RDATE:20300310T020000
END:DAYLIGHT
END:VTIMEZONE
BEGIN:VEVENT
UID:ceb016fa-8f52-45d8-a6c6-2651d7489391
DTSTAMP:20260425T113953Z
DESCRIPTION:We discuss new information\, host guest speakers and educate ou
 rselves as we assist our children in meeting their potential. \n\nFamilies
  from surrounding communities such as Cranford\, Clark\, North Plainfield\
 , Summit\, Westfield\, Millburn\, Morristown\, and Hillsborough attend our
  meetings.
DTSTART;TZID=America/New_York:20290424T190000
DTEND;TZID=America/New_York:20290424T200000
LOCATION:Children's Specialized Hospital\, 150 New Providence Road\, Mounta
 inside\, NJ
SUMMARY:Down Syndrome Parent Support Group (Mountainside)
END:VEVENT
END:VCALENDAR
