BEGIN:VCALENDAR
VERSION:2.0
PRODID:-//www.thearcfamilyinstitute.org//NONSGML kigkonsult.se iCalcreator 
 2.30.10//
CALSCALE:GREGORIAN
METHOD:PUBLISH
UID:deb120e8-a52b-4e6b-bea0-0334ba787383
X-WR-CALDESC:For siblings 9-13. Participants will enjoy a pizza dinner and 
 with a relaxed environment\, discuss any issues that are on their minds.  
 The leader\, an experienced social worker\, leads the discussion with sens
 itivity and insight.
X-WR-RELCALID:d6663367408f7e4f4f254c3f217111ce
X-WR-TIMEZONE:America/New_York
BEGIN:VTIMEZONE
TZID:America/New_York
BEGIN:STANDARD
TZNAME:EST
DTSTART:20281105T020000
TZOFFSETFROM:-0400
TZOFFSETTO:-0500
RDATE:20291104T020000
END:STANDARD
BEGIN:DAYLIGHT
TZNAME:EDT
DTSTART:20290311T020000
TZOFFSETFROM:-0500
TZOFFSETTO:-0400
RDATE:20300310T020000
END:DAYLIGHT
END:VTIMEZONE
BEGIN:VEVENT
UID:193763f5-1d24-43d7-995e-ab14ac91bce1
DTSTAMP:20260425T113052Z
DESCRIPTION:For siblings 9-13. Participants will enjoy a pizza dinner and w
 ith a relaxed environment\, discuss any issues that are on their minds.  T
 he leader\, an experienced social worker\, leads the discussion with sensi
 tivity and insight.
DTSTART;TZID=America/New_York:20290418T180000
DTEND;TZID=America/New_York:20290418T193000
LOCATION:Jewish Family Service of Central New Jersey\, 655 Westfield Avenue
 \, Elizabeth\, New Jersey 07208
SUMMARY:Siblings Support Group (Elizabeth)
END:VEVENT
END:VCALENDAR
