BEGIN:VCALENDAR
VERSION:2.0
PRODID:-//www.thearcfamilyinstitute.org//NONSGML kigkonsult.se iCalcreator 
 2.30.10//
CALSCALE:GREGORIAN
METHOD:PUBLISH
UID:46aa82ce-43fd-4dbe-a523-8b3be827e7b9
X-WR-CALDESC:Monthly support group for caregivers/parents of individuals wi
 th developmental and other disabilities who are 14 years and over.
X-WR-RELCALID:923ba63943ea2c8ff93eabf1fe6c4d63
X-WR-TIMEZONE:America/New_York
BEGIN:VTIMEZONE
TZID:America/New_York
BEGIN:STANDARD
TZNAME:EST
DTSTART:20281105T020000
TZOFFSETFROM:-0400
TZOFFSETTO:-0500
RDATE:20291104T020000
END:STANDARD
BEGIN:DAYLIGHT
TZNAME:EDT
DTSTART:20290311T020000
TZOFFSETFROM:-0500
TZOFFSETTO:-0400
RDATE:20300310T020000
END:DAYLIGHT
END:VTIMEZONE
BEGIN:VEVENT
UID:91d71e2b-9410-4916-9beb-d28018c1b385
DTSTAMP:20260425T101837Z
DESCRIPTION:Monthly support group for caregivers/parents of individuals wit
 h developmental and other disabilities who are 14 years and over.
DTSTART;TZID=America/New_York:20290313T190000
DTEND;TZID=America/New_York:20290313T203000
LOCATION:Bergen County Special Services Education Facility 540 Farview Ave.
 \, Paramus
SUMMARY:Parent-to-Parent (Paramus)
END:VEVENT
END:VCALENDAR
