BEGIN:VCALENDAR
VERSION:2.0
PRODID:-//www.thearcfamilyinstitute.org//NONSGML kigkonsult.se iCalcreator 
 2.30.10//
CALSCALE:GREGORIAN
METHOD:PUBLISH
UID:3f08f28a-a4ed-4e98-97a0-dbce69a6da5c
X-WR-CALDESC:We discuss new information\, host guest speakers and educate o
 urselves as we assist our children in meeting their potential. \n\nFamilie
 s from surrounding communities such as Cranford\, Clark\, North Plainfield
 \, Summit\, Westfield\, Millburn\, Morristown\, and Hillsborough attend ou
 r meetings.
X-WR-RELCALID:656005b32496086d337625951458d341
X-WR-TIMEZONE:America/New_York
BEGIN:VTIMEZONE
TZID:America/New_York
BEGIN:STANDARD
TZNAME:EST
DTSTART:20271107T020000
TZOFFSETFROM:-0400
TZOFFSETTO:-0500
RDATE:20281105T020000
RDATE:20291104T020000
END:STANDARD
BEGIN:DAYLIGHT
TZNAME:EDT
DTSTART:20280312T020000
TZOFFSETFROM:-0500
TZOFFSETTO:-0400
RDATE:20290311T020000
END:DAYLIGHT
END:VTIMEZONE
BEGIN:VEVENT
UID:99b7cda4-0902-4eeb-b75c-a97a3fa78bd3
DTSTAMP:20260425T000138Z
DESCRIPTION:We discuss new information\, host guest speakers and educate ou
 rselves as we assist our children in meeting their potential. \n\nFamilies
  from surrounding communities such as Cranford\, Clark\, North Plainfield\
 , Summit\, Westfield\, Millburn\, Morristown\, and Hillsborough attend our
  meetings.
DTSTART;TZID=America/New_York:20280725T190000
DTEND;TZID=America/New_York:20280725T200000
LOCATION:Children's Specialized Hospital\, 150 New Providence Road\, Mounta
 inside\, NJ
SUMMARY:Down Syndrome Parent Support Group (Mountainside)
END:VEVENT
END:VCALENDAR
