BEGIN:VCALENDAR
VERSION:2.0
PRODID:-//www.thearcfamilyinstitute.org//NONSGML kigkonsult.se iCalcreator 
 2.30.10//
CALSCALE:GREGORIAN
METHOD:PUBLISH
UID:54ae80ef-4092-41e5-a186-9d226cdfd1a1
X-WR-CALDESC:Monthly support group for caregivers/parents of individuals wi
 th developmental and other disabilities who are 14 years and over.
X-WR-RELCALID:590ab8f5fd640055e851d8d68d5d015f
X-WR-TIMEZONE:America/New_York
BEGIN:VTIMEZONE
TZID:America/New_York
BEGIN:STANDARD
TZNAME:EST
DTSTART:20271107T020000
TZOFFSETFROM:-0400
TZOFFSETTO:-0500
RDATE:20281105T020000
RDATE:20291104T020000
END:STANDARD
BEGIN:DAYLIGHT
TZNAME:EDT
DTSTART:20280312T020000
TZOFFSETFROM:-0500
TZOFFSETTO:-0400
RDATE:20290311T020000
END:DAYLIGHT
END:VTIMEZONE
BEGIN:VEVENT
UID:45ae9764-f66b-4263-9303-e6e1f4ff87c5
DTSTAMP:20260424T230305Z
DESCRIPTION:Monthly support group for caregivers/parents of individuals wit
 h developmental and other disabilities who are 14 years and over.
DTSTART;TZID=America/New_York:20280613T190000
DTEND;TZID=America/New_York:20280613T203000
LOCATION:Bergen County Special Services Education Facility 540 Farview Ave.
 \, Paramus
SUMMARY:Parent-to-Parent (Paramus)
END:VEVENT
END:VCALENDAR
