BEGIN:VCALENDAR
VERSION:2.0
PRODID:-//www.thearcfamilyinstitute.org//NONSGML kigkonsult.se iCalcreator 
 2.30.10//
CALSCALE:GREGORIAN
METHOD:PUBLISH
UID:3fcb777c-3dc5-4ec0-b614-a1aae284dca0
X-WR-CALDESC:Mom2Mom / The Arc of Monmouth \n\nSupport Group for Caregivers
  of Special Needs Children & Adults\nYou’re caring for your special needs 
 child…Who is caring for you?\nAt Mom 2 Mom our focus is caring for you….\n
  \nIn partnership with the University of Medicine & Dentistry of New Jerse
 y \n
X-WR-RELCALID:439848031a84d92af2e1d7b021c9defb
X-WR-TIMEZONE:America/New_York
BEGIN:VTIMEZONE
TZID:America/New_York
BEGIN:STANDARD
TZNAME:EST
DTSTART:20271107T020000
TZOFFSETFROM:-0400
TZOFFSETTO:-0500
RDATE:20281105T020000
RDATE:20291104T020000
END:STANDARD
BEGIN:DAYLIGHT
TZNAME:EDT
DTSTART:20280312T020000
TZOFFSETFROM:-0500
TZOFFSETTO:-0400
RDATE:20290311T020000
END:DAYLIGHT
END:VTIMEZONE
BEGIN:VEVENT
UID:8b0035f1-2b9e-4f76-a048-3e648f7b86bb
DTSTAMP:20260424T215739Z
DESCRIPTION:Mom2Mom / The Arc of Monmouth \n\nSupport Group for Caregivers 
 of Special Needs Children & Adults\nYou’re caring for your special needs c
 hild…Who is caring for you?\nAt Mom 2 Mom our focus is caring for you….\n 
 \nIn partnership with the University of Medicine & Dentistry of New Jersey
  \n
DTSTART;TZID=America/New_York:20280509T110000
DTEND;TZID=America/New_York:20280509T123000
LOCATION:The Arc of Monmouth\, 1158 Wayside Road\, Tinton Falls\, NJ 07712
SUMMARY:Mom2Mom (Tinton Falls)
END:VEVENT
END:VCALENDAR
