BEGIN:VCALENDAR
VERSION:2.0
PRODID:-//www.thearcfamilyinstitute.org//NONSGML kigkonsult.se iCalcreator 
 2.30.10//
CALSCALE:GREGORIAN
METHOD:PUBLISH
UID:01a5221e-c917-4e20-82db-70abd3950487
X-WR-CALDESC:Many Grandparents have become Parents to their Grandchildren. 
 There are unique adjustments & stressors to parenting Grandchildren. Come 
 to our support group & share your experiences in a safe place.\n\nNo regis
 tration needed\, open door. Please call 1 week before if childcare is need
 ed\, we provide free childcare.
X-WR-RELCALID:bc80c4b1ee7ac7508191f594411568d0
X-WR-TIMEZONE:America/New_York
BEGIN:VTIMEZONE
TZID:America/New_York
BEGIN:STANDARD
TZNAME:EST
DTSTART:20271107T020000
TZOFFSETFROM:-0400
TZOFFSETTO:-0500
RDATE:20281105T020000
END:STANDARD
BEGIN:DAYLIGHT
TZNAME:EDT
DTSTART:20280312T020000
TZOFFSETFROM:-0500
TZOFFSETTO:-0400
RDATE:20290311T020000
END:DAYLIGHT
END:VTIMEZONE
BEGIN:VEVENT
UID:05284319-f38a-4ad6-b689-57cfe85f9b8b
DTSTAMP:20260424T203818Z
DESCRIPTION:Many Grandparents have become Parents to their Grandchildren. T
 here are unique adjustments & stressors to parenting Grandchildren. Come t
 o our support group & share your experiences in a safe place.\n\nNo regist
 ration needed\, open door. Please call 1 week before if childcare is neede
 d\, we provide free childcare.
DTSTART;TZID=America/New_York:20280424T100000
DTEND;TZID=America/New_York:20280424T120000
LOCATION:Mercer County Family Support Organization\, 3535 Quakerbridge Road
 \, Suite 400\, Hamilton\, NJ 08619
SUMMARY:Grandparents Support Group (Hamilton)
END:VEVENT
END:VCALENDAR
