BEGIN:VCALENDAR
VERSION:2.0
PRODID:-//www.thearcfamilyinstitute.org//NONSGML kigkonsult.se iCalcreator 
 2.30.10//
CALSCALE:GREGORIAN
METHOD:PUBLISH
UID:a61286ed-a2c8-4129-9ae6-0accc14226eb
X-WR-CALDESC:Support\, informational and education source for parent and ca
 regivers of children in the Autism Spectrum.  Quarterly guest speaker pres
 ent on issues of interest to the community.
X-WR-RELCALID:ee43d115c04fce75879a255e4b282fe1
X-WR-TIMEZONE:America/New_York
BEGIN:VTIMEZONE
TZID:America/New_York
BEGIN:STANDARD
TZNAME:EST
DTSTART:20271107T020000
TZOFFSETFROM:-0400
TZOFFSETTO:-0500
RDATE:20281105T020000
END:STANDARD
BEGIN:DAYLIGHT
TZNAME:EDT
DTSTART:20270314T020000
TZOFFSETFROM:-0500
TZOFFSETTO:-0400
RDATE:20280312T020000
RDATE:20290311T020000
END:DAYLIGHT
END:VTIMEZONE
BEGIN:VEVENT
UID:687398bc-1c5a-4f3c-b67b-1dc48a725e0c
DTSTAMP:20260424T181339Z
DESCRIPTION:Support\, informational and education source for parent and car
 egivers of children in the Autism Spectrum.  Quarterly guest speaker prese
 nt on issues of interest to the community.
DTSTART;TZID=America/New_York:20280203T110000
DTEND;TZID=America/New_York:20280203T123000
LOCATION:Capital Health Hopewell\, Two Capital Way\, Pennington\, NJ 08540\
 , 4th floor Conference Room
SUMMARY:Support Group for Parents and Caregivers of Children with Autism (P
 ennington)
END:VEVENT
END:VCALENDAR
