BEGIN:VCALENDAR
VERSION:2.0
PRODID:-//www.thearcfamilyinstitute.org//NONSGML kigkonsult.se iCalcreator 
 2.30.10//
CALSCALE:GREGORIAN
METHOD:PUBLISH
UID:6f3e9dfe-c426-496c-adfd-491c09d706df
X-WR-CALDESC:Free and Open to the Community. Learn about how to be the best
  advocate\, Services and Resources available in the community  For more in
 formation please contact Rebecca at (973) 929-3129 or metrowestABLE@jfedgm
 w.org
X-WR-RELCALID:1aaaba4571ade69346e9ecd3d39ffe81
X-WR-TIMEZONE:America/New_York
BEGIN:VTIMEZONE
TZID:America/New_York
BEGIN:STANDARD
TZNAME:EST
DTSTART:20271107T020000
TZOFFSETFROM:-0400
TZOFFSETTO:-0500
RDATE:20281105T020000
END:STANDARD
BEGIN:DAYLIGHT
TZNAME:EDT
DTSTART:20270314T020000
TZOFFSETFROM:-0500
TZOFFSETTO:-0400
RDATE:20280312T020000
RDATE:20290311T020000
END:DAYLIGHT
END:VTIMEZONE
BEGIN:VEVENT
UID:99221224-faf5-42d1-bf96-30f5eacab645
DTSTAMP:20260424T165815Z
DESCRIPTION:Free and Open to the Community. Learn about how to be the best 
 advocate\, Services and Resources available in the community  For more inf
 ormation please contact Rebecca at (973) 929-3129 or metrowestABLE@jfedgmw
 .org
DTSTART;TZID=America/New_York:20280112T193000
DTEND;TZID=America/New_York:20280112T203000
LOCATION:JCC MetroWest\, 760 Northfield Avenue\, West Orange\, 07051
SUMMARY:Mom's Support Group (West Orange)
END:VEVENT
END:VCALENDAR
