BEGIN:VCALENDAR
VERSION:2.0
PRODID:-//www.thearcfamilyinstitute.org//NONSGML kigkonsult.se iCalcreator 
 2.30.10//
CALSCALE:GREGORIAN
METHOD:PUBLISH
UID:cfa67cae-1b54-4f43-800a-7115b8e0759c
X-WR-CALDESC:Free and Open to the Community. For Caregivers of Children/Adu
 lts with Special Needs.  This group will offer:  Support and Guidance\, An
  Opportunity To Network With Other Parents/Guardians\, Ways To Advocate Fo
 r Your Child\, Services and Resources Available In The Community.
X-WR-RELCALID:6730ac2dcb1a846314fcf5e70ea678ac
X-WR-TIMEZONE:America/New_York
BEGIN:VTIMEZONE
TZID:America/New_York
BEGIN:STANDARD
TZNAME:EST
DTSTART:20271107T020000
TZOFFSETFROM:-0400
TZOFFSETTO:-0500
RDATE:20281105T020000
END:STANDARD
BEGIN:DAYLIGHT
TZNAME:EDT
DTSTART:20270314T020000
TZOFFSETFROM:-0500
TZOFFSETTO:-0400
RDATE:20280312T020000
RDATE:20290311T020000
END:DAYLIGHT
END:VTIMEZONE
BEGIN:VEVENT
UID:3fd67eba-d1a4-44e4-8138-3c9cb21c0a23
DTSTAMP:20260424T152654Z
DESCRIPTION:Free and Open to the Community. For Caregivers of Children/Adul
 ts with Special Needs.  This group will offer:  Support and Guidance\, An 
 Opportunity To Network With Other Parents/Guardians\, Ways To Advocate For
  Your Child\, Services and Resources Available In The Community.
DTSTART;TZID=America/New_York:20271229T193000
DTEND;TZID=America/New_York:20271229T203000
LOCATION:JCC of Central NJ\, 1391 Martine Avenue\, Scotch Plains
SUMMARY:Caregivers' Support Group (Scotch Plains)
END:VEVENT
END:VCALENDAR
