BEGIN:VCALENDAR
VERSION:2.0
PRODID:-//www.thearcfamilyinstitute.org//NONSGML kigkonsult.se iCalcreator 
 2.30.10//
CALSCALE:GREGORIAN
METHOD:PUBLISH
UID:9853f9e4-d2b7-4f13-ad3e-27db753bfb64
X-WR-CALDESC:Free and Open to the Community. For Caregivers of Children/Adu
 lts with Special Needs.  This group will offer:  Support and Guidance\, An
  Opportunity To Network With Other Parents/Guardians\, Ways To Advocate Fo
 r Your Child\, Services and Resources Available In The Community.
X-WR-RELCALID:d460b8fa6ab59799648dfd06614358fc
X-WR-TIMEZONE:America/New_York
BEGIN:VTIMEZONE
TZID:America/New_York
BEGIN:STANDARD
TZNAME:EST
DTSTART:20271107T020000
TZOFFSETFROM:-0400
TZOFFSETTO:-0500
RDATE:20281105T020000
END:STANDARD
BEGIN:DAYLIGHT
TZNAME:EDT
DTSTART:20270314T020000
TZOFFSETFROM:-0500
TZOFFSETTO:-0400
RDATE:20280312T020000
RDATE:20290311T020000
END:DAYLIGHT
END:VTIMEZONE
BEGIN:VEVENT
UID:0fbd5bde-aad3-4c3d-9c22-20f4f56ba1f4
DTSTAMP:20260424T141552Z
DESCRIPTION:Free and Open to the Community. For Caregivers of Children/Adul
 ts with Special Needs.  This group will offer:  Support and Guidance\, An 
 Opportunity To Network With Other Parents/Guardians\, Ways To Advocate For
  Your Child\, Services and Resources Available In The Community.
DTSTART;TZID=America/New_York:20271124T193000
DTEND;TZID=America/New_York:20271124T203000
LOCATION:JCC of Central NJ\, 1391 Martine Avenue\, Scotch Plains
SUMMARY:Caregivers' Support Group (Scotch Plains)
END:VEVENT
END:VCALENDAR
