BEGIN:VCALENDAR
VERSION:2.0
PRODID:-//www.thearcfamilyinstitute.org//NONSGML kigkonsult.se iCalcreator 
 2.30.10//
CALSCALE:GREGORIAN
METHOD:PUBLISH
UID:31c46096-fd99-4896-ac8b-e3df166f3b30
X-WR-CALDESC:Mom2Mom and The Arc of Bergen & Passaic Counties Inc. host a S
 upport Group for ALL Caregivers of Special Needs Children & Adults. Please
  join us... all are welcome! Please RSVP so we can contact you with schedu
 ling changes.
X-WR-RELCALID:91119072ffa4cf785edbda27df68707f
X-WR-TIMEZONE:America/New_York
BEGIN:VTIMEZONE
TZID:America/New_York
BEGIN:STANDARD
TZNAME:EST
DTSTART:20261101T020000
TZOFFSETFROM:-0400
TZOFFSETTO:-0500
RDATE:20271107T020000
RDATE:20281105T020000
END:STANDARD
BEGIN:DAYLIGHT
TZNAME:EDT
DTSTART:20270314T020000
TZOFFSETFROM:-0500
TZOFFSETTO:-0400
RDATE:20280312T020000
RDATE:20290311T020000
END:DAYLIGHT
END:VTIMEZONE
BEGIN:VEVENT
UID:8d9583fe-c8dc-43c5-b541-1ae394629e16
DTSTAMP:20260424T125953Z
DESCRIPTION:Mom2Mom and The Arc of Bergen & Passaic Counties Inc. host a Su
 pport Group for ALL Caregivers of Special Needs Children & Adults. Please 
 join us... all are welcome! Please RSVP so we can contact you with schedul
 ing changes.
DTSTART;TZID=America/New_York:20271012T190000
DTEND;TZID=America/New_York:20271012T210000
LOCATION:The Arc's Community Choices Center\, 17-03 A Broadway\, Fairlawn
SUMMARY:The Arc of Bergen & Passaic/Mom 2 Mom
END:VEVENT
END:VCALENDAR
