BEGIN:VCALENDAR
VERSION:2.0
PRODID:-//www.thearcfamilyinstitute.org//NONSGML kigkonsult.se iCalcreator 
 2.30.10//
CALSCALE:GREGORIAN
METHOD:PUBLISH
UID:576e15f1-1627-4d0f-800a-aefe40925344
X-WR-CALDESC:Grandparent Support group offers a chance to talk with others 
 who are raising their grandchildren (or great-grands\, or great-nieces/nep
 hews). Share resources\, get emotional support\, give yourself a chance to
  smile.  Guest speakers on given topics may be arranged as group interests
  leads.
X-WR-RELCALID:5331f5cf38b14516950ea1ffe9c6c2e4
X-WR-TIMEZONE:America/New_York
BEGIN:VTIMEZONE
TZID:America/New_York
BEGIN:STANDARD
TZNAME:EST
DTSTART:20261101T020000
TZOFFSETFROM:-0400
TZOFFSETTO:-0500
RDATE:20271107T020000
RDATE:20281105T020000
END:STANDARD
BEGIN:DAYLIGHT
TZNAME:EDT
DTSTART:20270314T020000
TZOFFSETFROM:-0500
TZOFFSETTO:-0400
RDATE:20280312T020000
RDATE:20290311T020000
END:DAYLIGHT
END:VTIMEZONE
BEGIN:VEVENT
UID:22c2a838-a4ed-4bf1-b66e-586bfc7ef9f1
DTSTAMP:20260424T141121Z
DESCRIPTION:Grandparent Support group offers a chance to talk with others w
 ho are raising their grandchildren (or great-grands\, or great-nieces/neph
 ews). Share resources\, get emotional support\, give yourself a chance to 
 smile.  Guest speakers on given topics may be arranged as group interests 
 leads.
DTSTART;TZID=America/New_York:20271004T140000
DTEND;TZID=America/New_York:20271004T150000
LOCATION:Burlington County Human Services Building 795 Woodlane Road\, West
 ampton\, NJ 08060
SUMMARY:Grandparent Support Group (Westampton)
END:VEVENT
END:VCALENDAR
