BEGIN:VCALENDAR
VERSION:2.0
PRODID:-//www.thearcfamilyinstitute.org//NONSGML kigkonsult.se iCalcreator 
 2.30.10//
CALSCALE:GREGORIAN
METHOD:PUBLISH
UID:1de1aafa-a09b-4339-9360-f575117d3dcb
X-WR-CALDESC:We discuss new information\, host guest speakers and educate o
 urselves as we assist our children in meeting their potential. \n\nFamilie
 s from surrounding communities such as Cranford\, Clark\, North Plainfield
 \, Summit\, Westfield\, Millburn\, Morristown\, and Hillsborough attend ou
 r meetings.
X-WR-RELCALID:745f1dc2119be6049efc82a2dc07ad77
X-WR-TIMEZONE:America/New_York
BEGIN:VTIMEZONE
TZID:America/New_York
BEGIN:STANDARD
TZNAME:EST
DTSTART:20261101T020000
TZOFFSETFROM:-0400
TZOFFSETTO:-0500
RDATE:20271107T020000
RDATE:20281105T020000
END:STANDARD
BEGIN:DAYLIGHT
TZNAME:EDT
DTSTART:20270314T020000
TZOFFSETFROM:-0500
TZOFFSETTO:-0400
RDATE:20280312T020000
RDATE:20290311T020000
END:DAYLIGHT
END:VTIMEZONE
BEGIN:VEVENT
UID:2ef58443-07ec-4dcd-9360-810cfab038e1
DTSTAMP:20260424T124055Z
DESCRIPTION:We discuss new information\, host guest speakers and educate ou
 rselves as we assist our children in meeting their potential. \n\nFamilies
  from surrounding communities such as Cranford\, Clark\, North Plainfield\
 , Summit\, Westfield\, Millburn\, Morristown\, and Hillsborough attend our
  meetings.
DTSTART;TZID=America/New_York:20270928T190000
DTEND;TZID=America/New_York:20270928T200000
LOCATION:Children's Specialized Hospital\, 150 New Providence Road\, Mounta
 inside\, NJ
SUMMARY:Down Syndrome Parent Support Group (Mountainside)
END:VEVENT
END:VCALENDAR
