BEGIN:VCALENDAR
VERSION:2.0
PRODID:-//www.thearcfamilyinstitute.org//NONSGML kigkonsult.se iCalcreator 
 2.30.10//
CALSCALE:GREGORIAN
METHOD:PUBLISH
UID:6e239daf-c285-4a1f-b20f-8aeb5725c31d
X-WR-CALDESC:
X-WR-RELCALID:ce8e3a13a0cf718134c4f2565eebb163
X-WR-TIMEZONE:America/New_York
BEGIN:VTIMEZONE
TZID:America/New_York
BEGIN:STANDARD
TZNAME:EST
DTSTART:20261101T020000
TZOFFSETFROM:-0400
TZOFFSETTO:-0500
RDATE:20271107T020000
RDATE:20281105T020000
END:STANDARD
BEGIN:DAYLIGHT
TZNAME:EDT
DTSTART:20270314T020000
TZOFFSETFROM:-0500
TZOFFSETTO:-0400
RDATE:20280312T020000
END:DAYLIGHT
END:VTIMEZONE
BEGIN:VEVENT
UID:313d15d8-75cf-4023-acb4-29fae3904a71
DTSTAMP:20260424T100652Z
DESCRIPTION:
DTSTART;TZID=America/New_York:20270812T190000
DTEND;TZID=America/New_York:20270812T210000
LOCATION:Arc Kohler School\, 1137 Globe Ave\, Mountainside\, NJ 07092
SUMMARY:The Arc of Union County: Special Needs Caregiver's Support Group/Fo
 rum (Mountainside)
END:VEVENT
END:VCALENDAR
