BEGIN:VCALENDAR
VERSION:2.0
PRODID:-//www.thearcfamilyinstitute.org//NONSGML kigkonsult.se iCalcreator 
 2.30.10//
CALSCALE:GREGORIAN
METHOD:PUBLISH
UID:37c2a4a1-d4cd-438d-909f-150b772e1da7
X-WR-CALDESC:A newly formed group for the parents/caregivers which provides
  support\, education\, speakers and presentations on the topic of autism.
X-WR-RELCALID:636c520431fc7246ee644e79b7ae88ee
X-WR-TIMEZONE:America/New_York
BEGIN:VTIMEZONE
TZID:America/New_York
BEGIN:STANDARD
TZNAME:EST
DTSTART:20261101T020000
TZOFFSETFROM:-0400
TZOFFSETTO:-0500
RDATE:20271107T020000
RDATE:20281105T020000
END:STANDARD
BEGIN:DAYLIGHT
TZNAME:EDT
DTSTART:20270314T020000
TZOFFSETFROM:-0500
TZOFFSETTO:-0400
RDATE:20280312T020000
END:DAYLIGHT
END:VTIMEZONE
BEGIN:VEVENT
UID:fec58d19-ef5e-4a1b-82aa-d50be1d352b5
DTSTAMP:20260424T095953Z
DESCRIPTION:A newly formed group for the parents/caregivers which provides 
 support\, education\, speakers and presentations on the topic of autism.
DTSTART;TZID=America/New_York:20270805T110000
DTEND;TZID=America/New_York:20270805T123000
LOCATION:Capital Health Hopewell Medical Center\, 1 Capital Way\, Penningto
 n\, NJ 08534
SUMMARY:Autism Support Group (Pennington)
END:VEVENT
END:VCALENDAR
