BEGIN:VCALENDAR
VERSION:2.0
PRODID:-//www.thearcfamilyinstitute.org//NONSGML kigkonsult.se iCalcreator 
 2.30.10//
CALSCALE:GREGORIAN
METHOD:PUBLISH
UID:2c0f1690-c8aa-4ab1-a3f4-55b03879e200
X-WR-CALDESC:Support\, informational and education source for parent and ca
 regivers of children in the Autism Spectrum.  Quarterly guest speaker pres
 ent on issues of interest to the community.
X-WR-RELCALID:5a13eaeb01f09d5bddd6805ae722c0b9
X-WR-TIMEZONE:America/New_York
BEGIN:VTIMEZONE
TZID:America/New_York
BEGIN:STANDARD
TZNAME:EST
DTSTART:20261101T020000
TZOFFSETFROM:-0400
TZOFFSETTO:-0500
RDATE:20271107T020000
RDATE:20281105T020000
END:STANDARD
BEGIN:DAYLIGHT
TZNAME:EDT
DTSTART:20270314T020000
TZOFFSETFROM:-0500
TZOFFSETTO:-0400
RDATE:20280312T020000
END:DAYLIGHT
END:VTIMEZONE
BEGIN:VEVENT
UID:d635585b-c6fa-4073-b64c-109d3072b245
DTSTAMP:20260424T085511Z
DESCRIPTION:Support\, informational and education source for parent and car
 egivers of children in the Autism Spectrum.  Quarterly guest speaker prese
 nt on issues of interest to the community.
DTSTART;TZID=America/New_York:20270701T110000
DTEND;TZID=America/New_York:20270701T123000
LOCATION:Capital Health Hopewell\, Two Capital Way\, Pennington\, NJ 08540\
 , 4th floor Conference Room
SUMMARY:Support Group for Parents and Caregivers of Children with Autism (P
 ennington)
END:VEVENT
END:VCALENDAR
