BEGIN:VCALENDAR
VERSION:2.0
PRODID:-//www.thearcfamilyinstitute.org//NONSGML kigkonsult.se iCalcreator 
 2.30.10//
CALSCALE:GREGORIAN
METHOD:PUBLISH
UID:28f5b7f4-a367-406f-9658-80ff888f30d4
X-WR-CALDESC:A newly formed group for the parents/caregivers which provides
  support\, education\, speakers and presentations on the topic of autism.
X-WR-RELCALID:787dd7e6d5f05def15fcc02334b77d8b
X-WR-TIMEZONE:America/New_York
BEGIN:VTIMEZONE
TZID:America/New_York
BEGIN:STANDARD
TZNAME:EST
DTSTART:20261101T020000
TZOFFSETFROM:-0400
TZOFFSETTO:-0500
RDATE:20271107T020000
END:STANDARD
BEGIN:DAYLIGHT
TZNAME:EDT
DTSTART:20270314T020000
TZOFFSETFROM:-0500
TZOFFSETTO:-0400
RDATE:20280312T020000
END:DAYLIGHT
END:VTIMEZONE
BEGIN:VEVENT
UID:4183a68f-4f1e-4436-ac26-40604f5c40b6
DTSTAMP:20260424T062332Z
DESCRIPTION:A newly formed group for the parents/caregivers which provides 
 support\, education\, speakers and presentations on the topic of autism.
DTSTART;TZID=America/New_York:20270506T110000
DTEND;TZID=America/New_York:20270506T123000
LOCATION:Capital Health Hopewell Medical Center\, 1 Capital Way\, Penningto
 n\, NJ 08534
SUMMARY:Autism Support Group (Pennington)
END:VEVENT
END:VCALENDAR
