BEGIN:VCALENDAR
VERSION:2.0
PRODID:-//www.thearcfamilyinstitute.org//NONSGML kigkonsult.se iCalcreator 
 2.30.10//
CALSCALE:GREGORIAN
METHOD:PUBLISH
UID:5f5255a4-141c-4775-989a-5152cc1fb2f4
X-WR-CALDESC:Many Grandparents have become Parents to their Grandchildren. 
 There are unique adjustments & stressors to parenting Grandchildren. Come 
 to our support group & share your experiences in a safe place.\n\nNo regis
 tration needed\, open door. Please call 1 week before if childcare is need
 ed\, we provide free childcare.
X-WR-RELCALID:44609a19e216a40aeeb49d0f3df6192a
X-WR-TIMEZONE:America/New_York
BEGIN:VTIMEZONE
TZID:America/New_York
BEGIN:STANDARD
TZNAME:EST
DTSTART:20261101T020000
TZOFFSETFROM:-0400
TZOFFSETTO:-0500
RDATE:20271107T020000
END:STANDARD
BEGIN:DAYLIGHT
TZNAME:EDT
DTSTART:20260308T020000
TZOFFSETFROM:-0500
TZOFFSETTO:-0400
RDATE:20270314T020000
RDATE:20280312T020000
END:DAYLIGHT
END:VTIMEZONE
BEGIN:VEVENT
UID:77dac9c6-8985-4f55-992e-0a378926a48d
DTSTAMP:20260423T231958Z
DESCRIPTION:Many Grandparents have become Parents to their Grandchildren. T
 here are unique adjustments & stressors to parenting Grandchildren. Come t
 o our support group & share your experiences in a safe place.\n\nNo regist
 ration needed\, open door. Please call 1 week before if childcare is neede
 d\, we provide free childcare.
DTSTART;TZID=America/New_York:20261228T100000
DTEND;TZID=America/New_York:20261228T120000
LOCATION:Mercer County Family Support Organization\, 3535 Quakerbridge Road
 \, Suite 400\, Hamilton\, NJ 08619
SUMMARY:Grandparents Support Group (Hamilton)
END:VEVENT
END:VCALENDAR
