BEGIN:VCALENDAR
VERSION:2.0
PRODID:-//www.thearcfamilyinstitute.org//NONSGML kigkonsult.se iCalcreator 
 2.30.10//
CALSCALE:GREGORIAN
METHOD:PUBLISH
UID:bad03b48-cbb2-4099-b6d2-2c49b9f878cc
X-WR-CALDESC:A newly formed group for the parents/caregivers which provides
  support\, education\, speakers and presentations on the topic of autism.
X-WR-RELCALID:6de8f3419ae405085ef78f7f0cf18f70
X-WR-TIMEZONE:America/New_York
BEGIN:VTIMEZONE
TZID:America/New_York
BEGIN:STANDARD
TZNAME:EST
DTSTART:20261101T020000
TZOFFSETFROM:-0400
TZOFFSETTO:-0500
RDATE:20271107T020000
END:STANDARD
BEGIN:DAYLIGHT
TZNAME:EDT
DTSTART:20260308T020000
TZOFFSETFROM:-0500
TZOFFSETTO:-0400
RDATE:20270314T020000
RDATE:20280312T020000
END:DAYLIGHT
END:VTIMEZONE
BEGIN:VEVENT
UID:ee523260-5dd9-45bb-811f-399842899731
DTSTAMP:20260423T231756Z
DESCRIPTION:A newly formed group for the parents/caregivers which provides 
 support\, education\, speakers and presentations on the topic of autism.
DTSTART;TZID=America/New_York:20261203T110000
DTEND;TZID=America/New_York:20261203T123000
LOCATION:Capital Health Hopewell Medical Center\, 1 Capital Way\, Penningto
 n\, NJ 08534
SUMMARY:Autism Support Group (Pennington)
END:VEVENT
END:VCALENDAR
