BEGIN:VCALENDAR
VERSION:2.0
PRODID:-//www.thearcfamilyinstitute.org//NONSGML kigkonsult.se iCalcreator 
 2.30.10//
CALSCALE:GREGORIAN
METHOD:PUBLISH
UID:cd37c4f4-bbc3-48d5-8a1b-ceb4c2a012ac
X-WR-CALDESC:
X-WR-RELCALID:bdfbbd0c6b399c47311b358446ada347
X-WR-TIMEZONE:America/New_York
BEGIN:VTIMEZONE
TZID:America/New_York
BEGIN:STANDARD
TZNAME:EST
DTSTART:20261101T020000
TZOFFSETFROM:-0400
TZOFFSETTO:-0500
RDATE:20271107T020000
END:STANDARD
BEGIN:DAYLIGHT
TZNAME:EDT
DTSTART:20260308T020000
TZOFFSETFROM:-0500
TZOFFSETTO:-0400
RDATE:20270314T020000
RDATE:20280312T020000
END:DAYLIGHT
END:VTIMEZONE
BEGIN:VEVENT
UID:39d6959e-1b2c-40cb-bbf2-49d6d58db72d
DTSTAMP:20260423T215043Z
DESCRIPTION:
DTSTART;TZID=America/New_York:20261112T190000
DTEND;TZID=America/New_York:20261112T210000
LOCATION:Arc Kohler School\, 1137 Globe Ave\, Mountainside\, NJ 07092
SUMMARY:The Arc of Union County: Special Needs Caregiver's Support Group/Fo
 rum (Mountainside)
END:VEVENT
END:VCALENDAR
