BEGIN:VCALENDAR
VERSION:2.0
PRODID:-//www.thearcfamilyinstitute.org//NONSGML kigkonsult.se iCalcreator 
 2.30.10//
CALSCALE:GREGORIAN
METHOD:PUBLISH
UID:0bbd6bb5-ee70-41ff-9d6d-18b8dafb7d73
X-WR-CALDESC:Mom2Mom and The Arc of Bergen & Passaic Counties Inc. host a S
 upport Group for ALL Caregivers of Special Needs Children & Adults. Please
  join us... all are welcome! Please RSVP so we can contact you with schedu
 ling changes.
X-WR-RELCALID:0a1568bd8f6d67789f7b547b2e9a73b7
X-WR-TIMEZONE:America/New_York
BEGIN:VTIMEZONE
TZID:America/New_York
BEGIN:STANDARD
TZNAME:EST
DTSTART:20251102T020000
TZOFFSETFROM:-0400
TZOFFSETTO:-0500
RDATE:20261101T020000
RDATE:20271107T020000
END:STANDARD
BEGIN:DAYLIGHT
TZNAME:EDT
DTSTART:20260308T020000
TZOFFSETFROM:-0500
TZOFFSETTO:-0400
RDATE:20270314T020000
RDATE:20280312T020000
END:DAYLIGHT
END:VTIMEZONE
BEGIN:VEVENT
UID:e70dfde4-df34-4f13-9c55-3e2fe1c0573e
DTSTAMP:20260423T200606Z
DESCRIPTION:Mom2Mom and The Arc of Bergen & Passaic Counties Inc. host a Su
 pport Group for ALL Caregivers of Special Needs Children & Adults. Please 
 join us... all are welcome! Please RSVP so we can contact you with schedul
 ing changes.
DTSTART;TZID=America/New_York:20261013T190000
DTEND;TZID=America/New_York:20261013T210000
LOCATION:The Arc's Community Choices Center\, 17-03 A Broadway\, Fairlawn
SUMMARY:The Arc of Bergen & Passaic/Mom 2 Mom
END:VEVENT
END:VCALENDAR
