BEGIN:VCALENDAR
VERSION:2.0
PRODID:-//www.thearcfamilyinstitute.org//NONSGML kigkonsult.se iCalcreator 
 2.30.10//
CALSCALE:GREGORIAN
METHOD:PUBLISH
UID:59c518c1-6968-4956-8c4f-4ed34013a603
X-WR-CALDESC:A newly formed group for the parents/caregivers which provides
  support\, education\, speakers and presentations on the topic of autism.
X-WR-RELCALID:de7aa3b07abf696228dc8b4016ce5fb8
X-WR-TIMEZONE:America/New_York
BEGIN:VTIMEZONE
TZID:America/New_York
BEGIN:STANDARD
TZNAME:EST
DTSTART:20251102T020000
TZOFFSETFROM:-0400
TZOFFSETTO:-0500
RDATE:20261101T020000
END:STANDARD
BEGIN:DAYLIGHT
TZNAME:EDT
DTSTART:20260308T020000
TZOFFSETFROM:-0500
TZOFFSETTO:-0400
RDATE:20270314T020000
END:DAYLIGHT
END:VTIMEZONE
BEGIN:VEVENT
UID:f4832ae1-a548-44dd-8c59-5b2a55d08b6a
DTSTAMP:20260424T015307Z
DESCRIPTION:A newly formed group for the parents/caregivers which provides 
 support\, education\, speakers and presentations on the topic of autism.
DTSTART;TZID=America/New_York:20260507T110000
DTEND;TZID=America/New_York:20260507T123000
LOCATION:Capital Health Hopewell Medical Center\, 1 Capital Way\, Penningto
 n\, NJ 08534
SUMMARY:Autism Support Group (Pennington)
END:VEVENT
END:VCALENDAR
