BEGIN:VCALENDAR
VERSION:2.0
PRODID:-//www.thearcfamilyinstitute.org//NONSGML kigkonsult.se iCalcreator 
 2.30.10//
CALSCALE:GREGORIAN
METHOD:PUBLISH
UID:202159e0-1145-44e1-b072-ae29e1a72f15
X-WR-CALDESC:Mom2Mom / The Arc of Monmouth \n\nSupport Group for Caregivers
  of Special Needs Children & Adults\nYou’re caring for your special needs 
 child…Who is caring for you?\nAt Mom 2 Mom our focus is caring for you….\n
  \nIn partnership with the University of Medicine & Dentistry of New Jerse
 y \n
X-WR-RELCALID:d30ba81d71694c6254ae64e569ce39e5
X-WR-TIMEZONE:America/New_York
BEGIN:VTIMEZONE
TZID:America/New_York
BEGIN:STANDARD
TZNAME:EST
DTSTART:20251102T020000
TZOFFSETFROM:-0400
TZOFFSETTO:-0500
RDATE:20261101T020000
END:STANDARD
BEGIN:DAYLIGHT
TZNAME:EDT
DTSTART:20260308T020000
TZOFFSETFROM:-0500
TZOFFSETTO:-0400
RDATE:20270314T020000
END:DAYLIGHT
END:VTIMEZONE
BEGIN:VEVENT
UID:d43eb378-8731-41b6-ae4b-92a327660794
DTSTAMP:20260423T122436Z
DESCRIPTION:Mom2Mom / The Arc of Monmouth \n\nSupport Group for Caregivers 
 of Special Needs Children & Adults\nYou’re caring for your special needs c
 hild…Who is caring for you?\nAt Mom 2 Mom our focus is caring for you….\n 
 \nIn partnership with the University of Medicine & Dentistry of New Jersey
  \n
DTSTART;TZID=America/New_York:20260310T110000
DTEND;TZID=America/New_York:20260310T123000
LOCATION:The Arc of Monmouth\, 1158 Wayside Road\, Tinton Falls\, NJ 07712
SUMMARY:Mom2Mom (Tinton Falls)
END:VEVENT
END:VCALENDAR
