BEGIN:VCALENDAR
VERSION:2.0
PRODID:-//www.thearcfamilyinstitute.org//NONSGML kigkonsult.se iCalcreator 
 2.30.10//
CALSCALE:GREGORIAN
METHOD:PUBLISH
UID:73a9ff1d-f7c4-4b09-8fcc-13d1ae996f51
X-WR-CALDESC:Support\, informational and education source for parent and ca
 regivers of children in the Autism Spectrum.  Quarterly guest speaker pres
 ent on issues of interest to the community.
X-WR-RELCALID:702841a4457dbe303a985dbe18e12612
X-WR-TIMEZONE:America/New_York
BEGIN:VTIMEZONE
TZID:America/New_York
BEGIN:STANDARD
TZNAME:EST
DTSTART:20251102T020000
TZOFFSETFROM:-0400
TZOFFSETTO:-0500
RDATE:20261101T020000
END:STANDARD
BEGIN:DAYLIGHT
TZNAME:EDT
DTSTART:20250309T020000
TZOFFSETFROM:-0500
TZOFFSETTO:-0400
RDATE:20260308T020000
RDATE:20270314T020000
END:DAYLIGHT
END:VTIMEZONE
BEGIN:VEVENT
UID:e29fb258-6cca-4e6a-9807-2e9c3451e972
DTSTAMP:20260423T122456Z
DESCRIPTION:Support\, informational and education source for parent and car
 egivers of children in the Autism Spectrum.  Quarterly guest speaker prese
 nt on issues of interest to the community.
DTSTART;TZID=America/New_York:20260305T110000
DTEND;TZID=America/New_York:20260305T123000
LOCATION:Capital Health Hopewell\, Two Capital Way\, Pennington\, NJ 08540\
 , 4th floor Conference Room
SUMMARY:Support Group for Parents and Caregivers of Children with Autism (P
 ennington)
END:VEVENT
END:VCALENDAR
