BEGIN:VCALENDAR
VERSION:2.0
PRODID:-//www.thearcfamilyinstitute.org//NONSGML kigkonsult.se iCalcreator 
 2.30.10//
CALSCALE:GREGORIAN
METHOD:PUBLISH
UID:4380f0a2-c875-4e32-8b92-c8fe3cf2b9bf
X-WR-CALDESC:Free and Open to the Community. Learn about how to be the best
  advocate\, Services and Resources available in the community  For more in
 formation please contact Rebecca at (973) 929-3129 or metrowestABLE@jfedgm
 w.org
X-WR-RELCALID:10074d429e8876ae9d2f90c767fd10e7
X-WR-TIMEZONE:America/New_York
BEGIN:VTIMEZONE
TZID:America/New_York
BEGIN:STANDARD
TZNAME:EST
DTSTART:20251102T020000
TZOFFSETFROM:-0400
TZOFFSETTO:-0500
RDATE:20261101T020000
END:STANDARD
BEGIN:DAYLIGHT
TZNAME:EDT
DTSTART:20250309T020000
TZOFFSETFROM:-0500
TZOFFSETTO:-0400
RDATE:20260308T020000
RDATE:20270314T020000
END:DAYLIGHT
END:VTIMEZONE
BEGIN:VEVENT
UID:a9f21ff6-0728-4a3d-8250-5255393fda54
DTSTAMP:20260423T164710Z
DESCRIPTION:Free and Open to the Community. Learn about how to be the best 
 advocate\, Services and Resources available in the community  For more inf
 ormation please contact Rebecca at (973) 929-3129 or metrowestABLE@jfedgmw
 .org
DTSTART;TZID=America/New_York:20251210T193000
DTEND;TZID=America/New_York:20251210T203000
LOCATION:JCC MetroWest\, 760 Northfield Avenue\, West Orange\, 07051
SUMMARY:Mom's Support Group (West Orange)
END:VEVENT
END:VCALENDAR
