BEGIN:VCALENDAR
VERSION:2.0
PRODID:-//www.thearcfamilyinstitute.org//NONSGML kigkonsult.se iCalcreator 
 2.30.10//
CALSCALE:GREGORIAN
METHOD:PUBLISH
UID:1331ef73-ba5c-4073-88f6-8a402ce1650e
X-WR-CALDESC:Grandparent Support group offers a chance to talk with others 
 who are raising their grandchildren (or great-grands\, or great-nieces/nep
 hews). Share resources\, get emotional support\, give yourself a chance to
  smile.  Guest speakers on given topics may be arranged as group interests
  leads.
X-WR-RELCALID:2ecb1e4c9cfe3e1a3909744199b92d73
X-WR-TIMEZONE:America/New_York
BEGIN:VTIMEZONE
TZID:America/New_York
BEGIN:STANDARD
TZNAME:EST
DTSTART:20251102T020000
TZOFFSETFROM:-0400
TZOFFSETTO:-0500
RDATE:20261101T020000
END:STANDARD
BEGIN:DAYLIGHT
TZNAME:EDT
DTSTART:20250309T020000
TZOFFSETFROM:-0500
TZOFFSETTO:-0400
RDATE:20260308T020000
RDATE:20270314T020000
END:DAYLIGHT
END:VTIMEZONE
BEGIN:VEVENT
UID:c609d637-1b12-4c73-871c-a134acd3676f
DTSTAMP:20260423T164401Z
DESCRIPTION:Grandparent Support group offers a chance to talk with others w
 ho are raising their grandchildren (or great-grands\, or great-nieces/neph
 ews). Share resources\, get emotional support\, give yourself a chance to 
 smile.  Guest speakers on given topics may be arranged as group interests 
 leads.
DTSTART;TZID=America/New_York:20251201T140000
DTEND;TZID=America/New_York:20251201T150000
LOCATION:Burlington County Human Services Building 795 Woodlane Road\, West
 ampton\, NJ 08060
SUMMARY:Grandparent Support Group (Westampton)
END:VEVENT
END:VCALENDAR
