BEGIN:VCALENDAR
VERSION:2.0
PRODID:-//www.thearcfamilyinstitute.org//NONSGML kigkonsult.se iCalcreator 
 2.30.10//
CALSCALE:GREGORIAN
METHOD:PUBLISH
UID:515cb183-e9cc-4b9d-a889-389a5b5c2871
X-WR-CALDESC:Do you ever feel stressed & overwhelmed as a parent? Can your 
 kids really push your buttons? Want other parents to talk to?\n\nCome to t
 he Parents Anonymous Support Group!!\nParents can freely share their quest
 ions\, concerns\, problems & solutions about parenting in a safe & support
 ive atmosphere\nMeetings are free & onsite child supervision is available.
  (please call a week before to schedule child supervision)
X-WR-RELCALID:3cc9a6361c16cf697fef87f7a799b22b
X-WR-TIMEZONE:America/New_York
BEGIN:VTIMEZONE
TZID:America/New_York
BEGIN:STANDARD
TZNAME:EST
DTSTART:20241103T020000
TZOFFSETFROM:-0400
TZOFFSETTO:-0500
RDATE:20251102T020000
RDATE:20261101T020000
END:STANDARD
BEGIN:DAYLIGHT
TZNAME:EDT
DTSTART:20250309T020000
TZOFFSETFROM:-0500
TZOFFSETTO:-0400
RDATE:20260308T020000
RDATE:20270314T020000
END:DAYLIGHT
END:VTIMEZONE
BEGIN:VEVENT
UID:03a5b451-d8d3-498c-8120-79b9b3af02f2
DTSTAMP:20260423T195727Z
DESCRIPTION:Do you ever feel stressed & overwhelmed as a parent? Can your k
 ids really push your buttons? Want other parents to talk to?\n\nCome to th
 e Parents Anonymous Support Group!!\nParents can freely share their questi
 ons\, concerns\, problems & solutions about parenting in a safe & supporti
 ve atmosphere\nMeetings are free & onsite child supervision is available. 
 (please call a week before to schedule child supervision)
DTSTART;TZID=America/New_York:20251002T180000
DTEND;TZID=America/New_York:20251002T200000
LOCATION:Mercer County Family Support Organization\, 3535 Quakerbridge Rd\,
  Suite 400\, Hamilton\, NJ 08619
SUMMARY:Parents Anonymous (Hamilton)
END:VEVENT
END:VCALENDAR
