BEGIN:VCALENDAR
VERSION:2.0
PRODID:-//www.thearcfamilyinstitute.org//NONSGML kigkonsult.se iCalcreator 
 2.30.10//
CALSCALE:GREGORIAN
METHOD:PUBLISH
UID:6e39f218-d5e6-4b67-9304-5104cf5223af
X-WR-CALDESC:A newly formed group for the parents/caregivers which provides
  support\, education\, speakers and presentations on the topic of autism.
X-WR-RELCALID:bf25319f7aac1f0351fcab17c36cb994
X-WR-TIMEZONE:America/New_York
BEGIN:VTIMEZONE
TZID:America/New_York
BEGIN:STANDARD
TZNAME:EST
DTSTART:20241103T020000
TZOFFSETFROM:-0400
TZOFFSETTO:-0500
RDATE:20251102T020000
END:STANDARD
BEGIN:DAYLIGHT
TZNAME:EDT
DTSTART:20240310T020000
TZOFFSETFROM:-0500
TZOFFSETTO:-0400
RDATE:20250309T020000
RDATE:20260308T020000
END:DAYLIGHT
END:VTIMEZONE
BEGIN:VEVENT
UID:bc550fd5-59cd-492f-b6ce-bb515ac5fe4c
DTSTAMP:20260424T061854Z
DESCRIPTION:A newly formed group for the parents/caregivers which provides 
 support\, education\, speakers and presentations on the topic of autism.
DTSTART;TZID=America/New_York:20250306T110000
DTEND;TZID=America/New_York:20250306T123000
LOCATION:Capital Health Hopewell Medical Center\, 1 Capital Way\, Penningto
 n\, NJ 08534
SUMMARY:Autism Support Group (Pennington)
END:VEVENT
END:VCALENDAR
