BEGIN:VCALENDAR
VERSION:2.0
PRODID:-//www.thearcfamilyinstitute.org//NONSGML kigkonsult.se iCalcreator 
 2.30.10//
CALSCALE:GREGORIAN
METHOD:PUBLISH
UID:e99eecc5-36bd-44c2-86fb-19efac6ee254
X-WR-CALDESC:For siblings 9-13. Participants will enjoy a pizza dinner and 
 with a relaxed environment\, discuss any issues that are on their minds.  
 The leader\, an experienced social worker\, leads the discussion with sens
 itivity and insight.
X-WR-RELCALID:1963543c3c4d0ee3a3002b71527dbabe
X-WR-TIMEZONE:America/New_York
BEGIN:VTIMEZONE
TZID:America/New_York
BEGIN:STANDARD
TZNAME:EST
DTSTART:20241103T020000
TZOFFSETFROM:-0400
TZOFFSETTO:-0500
RDATE:20251102T020000
END:STANDARD
BEGIN:DAYLIGHT
TZNAME:EDT
DTSTART:20240310T020000
TZOFFSETFROM:-0500
TZOFFSETTO:-0400
RDATE:20250309T020000
RDATE:20260308T020000
END:DAYLIGHT
END:VTIMEZONE
BEGIN:VEVENT
UID:d2ce16f9-3759-475c-b769-cfa220196c25
DTSTAMP:20260424T111833Z
DESCRIPTION:For siblings 9-13. Participants will enjoy a pizza dinner and w
 ith a relaxed environment\, discuss any issues that are on their minds.  T
 he leader\, an experienced social worker\, leads the discussion with sensi
 tivity and insight.
DTSTART;TZID=America/New_York:20241120T180000
DTEND;TZID=America/New_York:20241120T193000
LOCATION:Jewish Family Service of Central New Jersey\, 655 Westfield Avenue
 \, Elizabeth\, New Jersey 07208
SUMMARY:Siblings Support Group (Elizabeth)
END:VEVENT
END:VCALENDAR
