BEGIN:VCALENDAR
VERSION:2.0
PRODID:-//www.thearcfamilyinstitute.org//NONSGML kigkonsult.se iCalcreator 
 2.30.10//
CALSCALE:GREGORIAN
METHOD:PUBLISH
UID:d3017a13-0509-430f-9b65-ac24e3449fb6
X-WR-CALDESC:Mom2Mom / The Arc of Monmouth \n\nSupport Group for Caregivers
  of Special Needs Children & Adults\nYou’re caring for your special needs 
 child…Who is caring for you?\nAt Mom 2 Mom our focus is caring for you….\n
  \nIn partnership with the University of Medicine & Dentistry of New Jerse
 y \n
X-WR-RELCALID:5f918e18af4450ac6e72f522bb15dbb8
X-WR-TIMEZONE:America/New_York
BEGIN:VTIMEZONE
TZID:America/New_York
BEGIN:STANDARD
TZNAME:EST
DTSTART:20241103T020000
TZOFFSETFROM:-0400
TZOFFSETTO:-0500
RDATE:20251102T020000
END:STANDARD
BEGIN:DAYLIGHT
TZNAME:EDT
DTSTART:20240310T020000
TZOFFSETFROM:-0500
TZOFFSETTO:-0400
RDATE:20250309T020000
RDATE:20260308T020000
END:DAYLIGHT
END:VTIMEZONE
BEGIN:VEVENT
UID:140ed202-3cac-416e-9283-a46c15baac03
DTSTAMP:20260424T112649Z
DESCRIPTION:Mom2Mom / The Arc of Monmouth \n\nSupport Group for Caregivers 
 of Special Needs Children & Adults\nYou’re caring for your special needs c
 hild…Who is caring for you?\nAt Mom 2 Mom our focus is caring for you….\n 
 \nIn partnership with the University of Medicine & Dentistry of New Jersey
  \n
DTSTART;TZID=America/New_York:20241112T110000
DTEND;TZID=America/New_York:20241112T123000
LOCATION:The Arc of Monmouth\, 1158 Wayside Road\, Tinton Falls\, NJ 07712
SUMMARY:Mom2Mom (Tinton Falls)
END:VEVENT
END:VCALENDAR
