BEGIN:VCALENDAR
VERSION:2.0
PRODID:-//www.thearcfamilyinstitute.org//NONSGML kigkonsult.se iCalcreator 
 2.30.10//
CALSCALE:GREGORIAN
METHOD:PUBLISH
UID:2d561318-b806-4547-884f-8bb1c126ea05
X-WR-CALDESC:Many Grandparents have become Parents to their Grandchildren. 
 There are unique adjustments & stressors to parenting Grandchildren. Come 
 to our support group & share your experiences in a safe place.\n\nNo regis
 tration needed\, open door. Please call 1 week before if childcare is need
 ed\, we provide free childcare.
X-WR-RELCALID:10816536c6ceff3153d80441093e023a
X-WR-TIMEZONE:America/New_York
BEGIN:VTIMEZONE
TZID:America/New_York
BEGIN:STANDARD
TZNAME:EST
DTSTART:20231105T020000
TZOFFSETFROM:-0400
TZOFFSETTO:-0500
RDATE:20241103T020000
RDATE:20251102T020000
END:STANDARD
BEGIN:DAYLIGHT
TZNAME:EDT
DTSTART:20240310T020000
TZOFFSETFROM:-0500
TZOFFSETTO:-0400
RDATE:20250309T020000
RDATE:20260308T020000
END:DAYLIGHT
END:VTIMEZONE
BEGIN:VEVENT
UID:ab7b4570-21f8-48b2-8d81-c2344729bd36
DTSTAMP:20260424T125501Z
DESCRIPTION:Many Grandparents have become Parents to their Grandchildren. T
 here are unique adjustments & stressors to parenting Grandchildren. Come t
 o our support group & share your experiences in a safe place.\n\nNo regist
 ration needed\, open door. Please call 1 week before if childcare is neede
 d\, we provide free childcare.
DTSTART;TZID=America/New_York:20241014T100000
DTEND;TZID=America/New_York:20241014T120000
LOCATION:Mercer County Family Support Organization\, 3535 Quakerbridge Road
 \, Suite 400\, Hamilton\, NJ 08619
SUMMARY:Grandparents Support Group (Hamilton)
END:VEVENT
END:VCALENDAR
