BEGIN:VCALENDAR
VERSION:2.0
PRODID:-//www.thearcfamilyinstitute.org//NONSGML kigkonsult.se iCalcreator 
 2.30.10//
CALSCALE:GREGORIAN
METHOD:PUBLISH
UID:52c216c9-9ec4-47f5-8862-4538c47048d1
X-WR-CALDESC:Monthly support group for caregivers/parents of individuals wi
 th developmental and other disabilities who are 14 years and over.
X-WR-RELCALID:de4e7c5ae461a584d14617876077adc0
X-WR-TIMEZONE:America/New_York
BEGIN:VTIMEZONE
TZID:America/New_York
BEGIN:STANDARD
TZNAME:EST
DTSTART:20231105T020000
TZOFFSETFROM:-0400
TZOFFSETTO:-0500
RDATE:20241103T020000
RDATE:20251102T020000
END:STANDARD
BEGIN:DAYLIGHT
TZNAME:EDT
DTSTART:20240310T020000
TZOFFSETFROM:-0500
TZOFFSETTO:-0400
RDATE:20250309T020000
RDATE:20260308T020000
END:DAYLIGHT
END:VTIMEZONE
BEGIN:VEVENT
UID:f096a122-b73c-46bf-adee-5d9e733cec19
DTSTAMP:20260424T140954Z
DESCRIPTION:Monthly support group for caregivers/parents of individuals wit
 h developmental and other disabilities who are 14 years and over.
DTSTART;TZID=America/New_York:20240910T190000
DTEND;TZID=America/New_York:20240910T203000
LOCATION:Bergen County Special Services Education Facility 540 Farview Ave.
 \, Paramus
SUMMARY:Parent-to-Parent (Paramus)
END:VEVENT
END:VCALENDAR
