BEGIN:VCALENDAR
VERSION:2.0
PRODID:-//www.thearcfamilyinstitute.org//NONSGML kigkonsult.se iCalcreator 
 2.30.10//
CALSCALE:GREGORIAN
METHOD:PUBLISH
UID:587fbcd7-98f8-4d2a-9df3-2f613b74dfd0
X-WR-CALDESC:We discuss new information\, host guest speakers and educate o
 urselves as we assist our children in meeting their potential. \n\nFamilie
 s from surrounding communities such as Cranford\, Clark\, North Plainfield
 \, Summit\, Westfield\, Millburn\, Morristown\, and Hillsborough attend ou
 r meetings.
X-WR-RELCALID:4079fe57b6b8cc970cc641149c6edb55
X-WR-TIMEZONE:America/New_York
BEGIN:VTIMEZONE
TZID:America/New_York
BEGIN:STANDARD
TZNAME:EST
DTSTART:20231105T020000
TZOFFSETFROM:-0400
TZOFFSETTO:-0500
RDATE:20241103T020000
RDATE:20251102T020000
END:STANDARD
BEGIN:DAYLIGHT
TZNAME:EDT
DTSTART:20240310T020000
TZOFFSETFROM:-0500
TZOFFSETTO:-0400
RDATE:20250309T020000
END:DAYLIGHT
END:VTIMEZONE
BEGIN:VEVENT
UID:b87099b0-81bf-4149-91e8-126cc4821031
DTSTAMP:20260424T154122Z
DESCRIPTION:We discuss new information\, host guest speakers and educate ou
 rselves as we assist our children in meeting their potential. \n\nFamilies
  from surrounding communities such as Cranford\, Clark\, North Plainfield\
 , Summit\, Westfield\, Millburn\, Morristown\, and Hillsborough attend our
  meetings.
DTSTART;TZID=America/New_York:20240827T190000
DTEND;TZID=America/New_York:20240827T200000
LOCATION:Children's Specialized Hospital\, 150 New Providence Road\, Mounta
 inside\, NJ
SUMMARY:Down Syndrome Parent Support Group (Mountainside)
END:VEVENT
END:VCALENDAR
