BEGIN:VCALENDAR
VERSION:2.0
PRODID:-//www.thearcfamilyinstitute.org//NONSGML kigkonsult.se iCalcreator 
 2.30.10//
CALSCALE:GREGORIAN
METHOD:PUBLISH
UID:8981c324-72d8-431a-80a1-a532c075b536
X-WR-CALDESC:
X-WR-RELCALID:d0f1b206b99982718b5e7858c7cd2340
X-WR-TIMEZONE:America/New_York
BEGIN:VTIMEZONE
TZID:America/New_York
BEGIN:STANDARD
TZNAME:EST
DTSTART:20231105T020000
TZOFFSETFROM:-0400
TZOFFSETTO:-0500
RDATE:20241103T020000
RDATE:20251102T020000
END:STANDARD
BEGIN:DAYLIGHT
TZNAME:EDT
DTSTART:20240310T020000
TZOFFSETFROM:-0500
TZOFFSETTO:-0400
RDATE:20250309T020000
END:DAYLIGHT
END:VTIMEZONE
BEGIN:VEVENT
UID:92616027-640e-411a-8295-8679169154ce
DTSTAMP:20260424T171544Z
DESCRIPTION:
DTSTART;TZID=America/New_York:20240711T190000
DTEND;TZID=America/New_York:20240711T210000
LOCATION:Arc Kohler School\, 1137 Globe Ave\, Mountainside\, NJ 07092
SUMMARY:The Arc of Union County: Special Needs Caregiver's Support Group/Fo
 rum (Mountainside)
END:VEVENT
END:VCALENDAR
