BEGIN:VCALENDAR
VERSION:2.0
PRODID:-//www.thearcfamilyinstitute.org//NONSGML kigkonsult.se iCalcreator 
 2.30.10//
CALSCALE:GREGORIAN
METHOD:PUBLISH
UID:046c25d2-6626-49c5-9e65-b431923ab459
X-WR-CALDESC:Free and Open to the Community. For Caregivers of Children/Adu
 lts with Special Needs.  This group will offer:  Support and Guidance\, An
  Opportunity To Network With Other Parents/Guardians\, Ways To Advocate Fo
 r Your Child\, Services and Resources Available In The Community.
X-WR-RELCALID:4da3ad090be1859dd1c19ef806d8e133
X-WR-TIMEZONE:America/New_York
BEGIN:VTIMEZONE
TZID:America/New_York
BEGIN:STANDARD
TZNAME:EST
DTSTART:20231105T020000
TZOFFSETFROM:-0400
TZOFFSETTO:-0500
RDATE:20241103T020000
END:STANDARD
BEGIN:DAYLIGHT
TZNAME:EDT
DTSTART:20240310T020000
TZOFFSETFROM:-0500
TZOFFSETTO:-0400
RDATE:20250309T020000
END:DAYLIGHT
END:VTIMEZONE
BEGIN:VEVENT
UID:748bd229-3ba1-4b9d-bc32-084c91ab1e6c
DTSTAMP:20260424T204516Z
DESCRIPTION:Free and Open to the Community. For Caregivers of Children/Adul
 ts with Special Needs.  This group will offer:  Support and Guidance\, An 
 Opportunity To Network With Other Parents/Guardians\, Ways To Advocate For
  Your Child\, Services and Resources Available In The Community.
DTSTART;TZID=America/New_York:20240424T193000
DTEND;TZID=America/New_York:20240424T203000
LOCATION:JCC of Central NJ\, 1391 Martine Avenue\, Scotch Plains
SUMMARY:Caregivers' Support Group (Scotch Plains)
END:VEVENT
END:VCALENDAR
