BEGIN:VCALENDAR
VERSION:2.0
PRODID:-//www.thearcfamilyinstitute.org//NONSGML kigkonsult.se iCalcreator 
 2.30.10//
CALSCALE:GREGORIAN
METHOD:PUBLISH
UID:7b8ef3a9-14c7-4dfa-8288-fdb9df356680
X-WR-CALDESC:
X-WR-RELCALID:721747f2483edd03dfe84a6df88e71a4
X-WR-TIMEZONE:America/New_York
BEGIN:VTIMEZONE
TZID:America/New_York
BEGIN:STANDARD
TZNAME:EST
DTSTART:20231105T020000
TZOFFSETFROM:-0400
TZOFFSETTO:-0500
RDATE:20241103T020000
END:STANDARD
BEGIN:DAYLIGHT
TZNAME:EDT
DTSTART:20230312T020000
TZOFFSETFROM:-0500
TZOFFSETTO:-0400
RDATE:20240310T020000
RDATE:20250309T020000
END:DAYLIGHT
END:VTIMEZONE
BEGIN:VEVENT
UID:aefac9f7-5fdc-4cd8-9a6d-d6db7df35c00
DTSTAMP:20260425T001547Z
DESCRIPTION:
DTSTART;TZID=America/New_York:20240111T190000
DTEND;TZID=America/New_York:20240111T210000
LOCATION:Arc Kohler School\, 1137 Globe Ave\, Mountainside\, NJ 07092
SUMMARY:The Arc of Union County: Special Needs Caregiver's Support Group/Fo
 rum (Mountainside)
END:VEVENT
END:VCALENDAR
