BEGIN:VCALENDAR
VERSION:2.0
PRODID:-//www.thearcfamilyinstitute.org//NONSGML kigkonsult.se iCalcreator 
 2.30.10//
CALSCALE:GREGORIAN
METHOD:PUBLISH
UID:86ff0c57-7c21-4fb0-88e7-95ccb2eabc42
X-WR-CALDESC:Many Grandparents have become Parents to their Grandchildren. 
 There are unique adjustments & stressors to parenting Grandchildren. Come 
 to our support group & share your experiences in a safe place.\n\nNo regis
 tration needed\, open door. Please call 1 week before if childcare is need
 ed\, we provide free childcare.
X-WR-RELCALID:13f94045fee351a09efcefa58d5beb29
X-WR-TIMEZONE:America/New_York
BEGIN:VTIMEZONE
TZID:America/New_York
BEGIN:STANDARD
TZNAME:EST
DTSTART:20231105T020000
TZOFFSETFROM:-0400
TZOFFSETTO:-0500
RDATE:20241103T020000
END:STANDARD
BEGIN:DAYLIGHT
TZNAME:EDT
DTSTART:20230312T020000
TZOFFSETFROM:-0500
TZOFFSETTO:-0400
RDATE:20240310T020000
RDATE:20250309T020000
END:DAYLIGHT
END:VTIMEZONE
BEGIN:VEVENT
UID:19c0d1a2-11cc-43ea-ac0b-7108ed18ecdf
DTSTAMP:20260425T000652Z
DESCRIPTION:Many Grandparents have become Parents to their Grandchildren. T
 here are unique adjustments & stressors to parenting Grandchildren. Come t
 o our support group & share your experiences in a safe place.\n\nNo regist
 ration needed\, open door. Please call 1 week before if childcare is neede
 d\, we provide free childcare.
DTSTART;TZID=America/New_York:20240108T100000
DTEND;TZID=America/New_York:20240108T120000
LOCATION:Mercer County Family Support Organization\, 3535 Quakerbridge Road
 \, Suite 400\, Hamilton\, NJ 08619
SUMMARY:Grandparents Support Group (Hamilton)
END:VEVENT
END:VCALENDAR
