BEGIN:VCALENDAR
VERSION:2.0
PRODID:-//www.thearcfamilyinstitute.org//NONSGML kigkonsult.se iCalcreator 
 2.30.10//
CALSCALE:GREGORIAN
METHOD:PUBLISH
UID:6a99682f-a081-426a-b5d3-0800b38de7b0
X-WR-CALDESC:For siblings 9-13. Participants will enjoy a pizza dinner and 
 with a relaxed environment\, discuss any issues that are on their minds.  
 The leader\, an experienced social worker\, leads the discussion with sens
 itivity and insight.
X-WR-RELCALID:f60b30d4eaf619ec662f672da8ae6c5a
X-WR-TIMEZONE:America/New_York
BEGIN:VTIMEZONE
TZID:America/New_York
BEGIN:STANDARD
TZNAME:EST
DTSTART:20231105T020000
TZOFFSETFROM:-0400
TZOFFSETTO:-0500
RDATE:20241103T020000
END:STANDARD
BEGIN:DAYLIGHT
TZNAME:EDT
DTSTART:20230312T020000
TZOFFSETFROM:-0500
TZOFFSETTO:-0400
RDATE:20240310T020000
RDATE:20250309T020000
END:DAYLIGHT
END:VTIMEZONE
BEGIN:VEVENT
UID:7a0d6b43-cf23-4cd0-9b37-69ff7d45a487
DTSTAMP:20260425T010954Z
DESCRIPTION:For siblings 9-13. Participants will enjoy a pizza dinner and w
 ith a relaxed environment\, discuss any issues that are on their minds.  T
 he leader\, an experienced social worker\, leads the discussion with sensi
 tivity and insight.
DTSTART;TZID=America/New_York:20231220T180000
DTEND;TZID=America/New_York:20231220T193000
LOCATION:Jewish Family Service of Central New Jersey\, 655 Westfield Avenue
 \, Elizabeth\, New Jersey 07208
SUMMARY:Siblings Support Group (Elizabeth)
END:VEVENT
END:VCALENDAR
