BEGIN:VCALENDAR
VERSION:2.0
PRODID:-//www.thearcfamilyinstitute.org//NONSGML kigkonsult.se iCalcreator 
 2.30.10//
CALSCALE:GREGORIAN
METHOD:PUBLISH
UID:fd52c0de-9424-4989-960c-ae0ad3dadd0e
X-WR-CALDESC:Grandparent Support group offers a chance to talk with others 
 who are raising their grandchildren (or great-grands\, or great-nieces/nep
 hews). Share resources\, get emotional support\, give yourself a chance to
  smile.  Guest speakers on given topics may be arranged as group interests
  leads.
X-WR-RELCALID:de376df1d3f1edfa0b70b79a041613c9
X-WR-TIMEZONE:America/New_York
BEGIN:VTIMEZONE
TZID:America/New_York
BEGIN:STANDARD
TZNAME:EST
DTSTART:20221106T020000
TZOFFSETFROM:-0400
TZOFFSETTO:-0500
RDATE:20231105T020000
RDATE:20241103T020000
END:STANDARD
BEGIN:DAYLIGHT
TZNAME:EDT
DTSTART:20230312T020000
TZOFFSETFROM:-0500
TZOFFSETTO:-0400
RDATE:20240310T020000
END:DAYLIGHT
END:VTIMEZONE
BEGIN:VEVENT
UID:a58ebf79-65e0-4d1d-a7f1-5405c10097f5
DTSTAMP:20260421T164549Z
DESCRIPTION:Grandparent Support group offers a chance to talk with others w
 ho are raising their grandchildren (or great-grands\, or great-nieces/neph
 ews). Share resources\, get emotional support\, give yourself a chance to 
 smile.  Guest speakers on given topics may be arranged as group interests 
 leads.
DTSTART;TZID=America/New_York:20230605T140000
DTEND;TZID=America/New_York:20230605T150000
LOCATION:Burlington County Human Services Building 795 Woodlane Road\, West
 ampton\, NJ 08060
SUMMARY:Grandparent Support Group (Westampton)
END:VEVENT
END:VCALENDAR
