BEGIN:VCALENDAR
VERSION:2.0
PRODID:-//www.thearcfamilyinstitute.org//NONSGML kigkonsult.se iCalcreator 
 2.30.10//
CALSCALE:GREGORIAN
METHOD:PUBLISH
UID:98563cf6-1d9d-48b7-805b-70d5b5326483
X-WR-CALDESC:Free and Open to the Community. For Caregivers of Children/Adu
 lts with Special Needs.  This group will offer:  Support and Guidance\, An
  Opportunity To Network With Other Parents/Guardians\, Ways To Advocate Fo
 r Your Child\, Services and Resources Available In The Community.
X-WR-RELCALID:29bf255337ade9de711ed1898e6c86bb
X-WR-TIMEZONE:America/New_York
BEGIN:VTIMEZONE
TZID:America/New_York
BEGIN:STANDARD
TZNAME:EST
DTSTART:20221106T020000
TZOFFSETFROM:-0400
TZOFFSETTO:-0500
RDATE:20231105T020000
RDATE:20241103T020000
END:STANDARD
BEGIN:DAYLIGHT
TZNAME:EDT
DTSTART:20230312T020000
TZOFFSETFROM:-0500
TZOFFSETTO:-0400
RDATE:20240310T020000
END:DAYLIGHT
END:VTIMEZONE
BEGIN:VEVENT
UID:724f3cb6-9c44-4a54-91c7-89c3cfb6baff
DTSTAMP:20260425T103103Z
DESCRIPTION:Free and Open to the Community. For Caregivers of Children/Adul
 ts with Special Needs.  This group will offer:  Support and Guidance\, An 
 Opportunity To Network With Other Parents/Guardians\, Ways To Advocate For
  Your Child\, Services and Resources Available In The Community.
DTSTART;TZID=America/New_York:20230531T193000
DTEND;TZID=America/New_York:20230531T203000
LOCATION:JCC of Central NJ\, 1391 Martine Avenue\, Scotch Plains
SUMMARY:Caregivers' Support Group (Scotch Plains)
END:VEVENT
END:VCALENDAR
